BEGIN:VCALENDAR
PRODID:brasil.gov.agenda
VERSION:1.0
BEGIN:VEVENT
DTSTART:20220518T203700Z
DTEND:20220518T233700Z
DCREATED:20220517T163730Z
UID:Compromisso-ad20a09ec83e450b8d24b2d5cabedd91
SEQUENCE:0
LAST-MODIFIED:20220517T163730Z
SUMMARY:Indis
PRIORITY:3
TRANSP:0
END:VEVENT
END:VCALENDAR
